Package: AgiMicroRna Version: 2.57.0 Command: /Library/Frameworks/R.framework/Resources/bin/R CMD check --install=check:AgiMicroRna.install-out.txt --library=/Library/Frameworks/R.framework/Resources/library --no-vignettes --timings AgiMicroRna_2.57.0.tar.gz StartedAt: 2025-02-16 18:42:17 -0500 (Sun, 16 Feb 2025) EndedAt: 2025-02-16 18:49:19 -0500 (Sun, 16 Feb 2025) EllapsedTime: 421.8 seconds RetCode: 0 Status: WARNINGS CheckDir: AgiMicroRna.Rcheck Warnings: 1