Package: AgiMicroRna Version: 2.57.0 Command: /Library/Frameworks/R.framework/Resources/bin/R CMD build --keep-empty-dirs --no-resave-data AgiMicroRna StartedAt: 2025-02-16 15:50:32 -0500 (Sun, 16 Feb 2025) EndedAt: 2025-02-16 15:52:43 -0500 (Sun, 16 Feb 2025) EllapsedTime: 131.4 seconds RetCode: 0 Status: OK PackageFile: AgiMicroRna_2.57.0.tar.gz PackageFileSize: 3.067 MiB