Package: AffyRNADegradation Version: 1.55.0 Command: chmod a+r AffyRNADegradation -R && F:\biocbuild\bbs-3.22-bioc\R\bin\R.exe CMD build --keep-empty-dirs --no-resave-data AffyRNADegradation StartedAt: 2025-08-14 18:22:23 -0400 (Thu, 14 Aug 2025) EndedAt: 2025-08-14 18:25:24 -0400 (Thu, 14 Aug 2025) EllapsedTime: 180.7 seconds RetCode: 0 Status: OK PackageFile: AffyRNADegradation_1.55.0.tar.gz PackageFileSize: 274.2 KiB