Package: AffyRNADegradation Version: 1.53.0 Command: chmod a+r AffyRNADegradation -R && E:\biocbuild\bbs-3.21-bioc\R\bin\R.exe CMD build --keep-empty-dirs --no-resave-data AffyRNADegradation StartedAt: 2025-02-12 17:11:12 -0500 (Wed, 12 Feb 2025) EndedAt: 2025-02-12 17:13:23 -0500 (Wed, 12 Feb 2025) EllapsedTime: 130.4 seconds RetCode: 0 Status: OK PackageFile: AffyRNADegradation_1.53.0.tar.gz PackageFileSize: 274.4 KiB