Package: AffyRNADegradation Version: 1.53.0 Command: rm -rf AffyRNADegradation.buildbin-libdir && mkdir AffyRNADegradation.buildbin-libdir && E:\biocbuild\bbs-3.21-bioc\R\bin\R.exe CMD INSTALL --build --library=AffyRNADegradation.buildbin-libdir AffyRNADegradation_1.53.0.tar.gz StartedAt: 2025-02-13 07:22:22 -0500 (Thu, 13 Feb 2025) EndedAt: 2025-02-13 07:22:54 -0500 (Thu, 13 Feb 2025) EllapsedTime: 31.4 seconds RetCode: 0 Status: OK PackageFile: AffyRNADegradation_1.53.0.zip PackageFileSize: 315.2 KiB