Package: AffyRNADegradation Version: 1.53.0 Command: /Library/Frameworks/R.framework/Resources/bin/R CMD INSTALL AffyRNADegradation StartedAt: 2025-02-04 15:05:56 -0500 (Tue, 04 Feb 2025) EndedAt: 2025-02-04 15:06:29 -0500 (Tue, 04 Feb 2025) EllapsedTime: 33.5 seconds RetCode: 0 Status: OK