Package: AffyRNADegradation Version: 1.53.0 Command: /Library/Frameworks/R.framework/Resources/bin/R CMD check --install=check:AffyRNADegradation.install-out.txt --library=/Library/Frameworks/R.framework/Resources/library --no-vignettes --timings AffyRNADegradation_1.53.0.tar.gz StartedAt: 2025-02-04 18:49:54 -0500 (Tue, 04 Feb 2025) EndedAt: 2025-02-04 18:51:46 -0500 (Tue, 04 Feb 2025) EllapsedTime: 111.9 seconds RetCode: 0 Status: OK CheckDir: AffyRNADegradation.Rcheck Warnings: 0