Package: AffyRNADegradation Version: 1.53.0 Command: /Library/Frameworks/R.framework/Resources/bin/R CMD build --keep-empty-dirs --no-resave-data AffyRNADegradation StartedAt: 2025-02-04 15:50:13 -0500 (Tue, 04 Feb 2025) EndedAt: 2025-02-04 15:51:48 -0500 (Tue, 04 Feb 2025) EllapsedTime: 95.0 seconds RetCode: 0 Status: OK PackageFile: AffyRNADegradation_1.53.0.tar.gz PackageFileSize: 365.5 KiB