Package: AffyRNADegradation Version: 1.53.0 Command: /home/biocbuild/R/R/bin/R CMD build --keep-empty-dirs --no-resave-data AffyRNADegradation StartedAt: 2025-01-29 20:46:16 -0000 (Wed, 29 Jan 2025) EndedAt: 2025-01-29 20:47:50 -0000 (Wed, 29 Jan 2025) EllapsedTime: 94.0 seconds RetCode: 0 Status: OK PackageFile: AffyRNADegradation_1.53.0.tar.gz PackageFileSize: 359 KiB