Package: AffyRNADegradation Version: 1.53.0 Command: /Library/Frameworks/R.framework/Resources/bin/R CMD build --keep-empty-dirs --no-resave-data AffyRNADegradation StartedAt: 2025-02-04 15:31:46 -0500 (Tue, 04 Feb 2025) EndedAt: 2025-02-04 15:32:37 -0500 (Tue, 04 Feb 2025) EllapsedTime: 50.6 seconds RetCode: 0 Status: OK PackageFile: AffyRNADegradation_1.53.0.tar.gz PackageFileSize: 365.4 KiB