Package: AffyRNADegradation Version: 1.53.0 Command: rm -rf AffyRNADegradation.buildbin-libdir && mkdir AffyRNADegradation.buildbin-libdir && /Users/biocbuild/BBS/utils/build-universal.sh AffyRNADegradation_1.53.0.tar.gz /Library/Frameworks/R.framework/Resources/bin/R AffyRNADegradation.buildbin-libdir StartedAt: 2025-02-04 22:07:08 -0500 (Tue, 04 Feb 2025) EndedAt: 2025-02-04 22:07:10 -0500 (Tue, 04 Feb 2025) EllapsedTime: 2.0 seconds RetCode: 0 Status: OK PackageFile: AffyRNADegradation_1.53.0.tgz PackageFileSize: 401.7 KiB