Package: AffiXcan Version: 1.27.0 Command: /home/biocbuild/bbs-3.22-bioc/R/bin/R CMD INSTALL AffiXcan StartedAt: 2025-10-10 15:33:40 -0400 (Fri, 10 Oct 2025) EndedAt: 2025-10-10 15:34:02 -0400 (Fri, 10 Oct 2025) EllapsedTime: 21.6 seconds RetCode: 0 Status: OK