Package: AffiXcan Version: 1.27.0 Command: /home/biocbuild/bbs-3.22-bioc/R/bin/R CMD build --keep-empty-dirs --no-resave-data --md5 AffiXcan StartedAt: 2025-10-12 16:07:15 -0400 (Sun, 12 Oct 2025) EndedAt: 2025-10-12 16:07:55 -0400 (Sun, 12 Oct 2025) EllapsedTime: 40.0 seconds RetCode: 0 Status: OK PackageFile: AffiXcan_1.27.0.tar.gz PackageFileSize: 2.374 MiB