Package: AWFisher Version: 1.21.0 Command: rm -rf AWFisher.buildbin-libdir && mkdir AWFisher.buildbin-libdir && E:\biocbuild\bbs-3.21-bioc\R\bin\R.exe CMD INSTALL --build --library=AWFisher.buildbin-libdir AWFisher_1.21.0.tar.gz StartedAt: 2025-02-04 07:29:26 -0500 (Tue, 04 Feb 2025) EndedAt: 2025-02-04 07:29:45 -0500 (Tue, 04 Feb 2025) EllapsedTime: 18.4 seconds RetCode: 0 Status: OK PackageFile: AWFisher_1.21.0.zip PackageFileSize: 1.393 MiB