Package: AWFisher Version: 1.21.0 Command: /home/biocbuild/bbs-3.21-bioc/R/bin/R CMD build --keep-empty-dirs --no-resave-data AWFisher StartedAt: 2025-02-03 16:20:43 -0500 (Mon, 03 Feb 2025) EndedAt: 2025-02-03 16:21:06 -0500 (Mon, 03 Feb 2025) EllapsedTime: 23.0 seconds RetCode: 0 Status: OK PackageFile: AWFisher_1.21.0.tar.gz PackageFileSize: 1.383 MiB