Package: AWFisher Version: 1.21.0 Command: /Library/Frameworks/R.framework/Resources/bin/R CMD INSTALL AWFisher StartedAt: 2025-02-03 15:12:44 -0500 (Mon, 03 Feb 2025) EndedAt: 2025-02-03 15:13:10 -0500 (Mon, 03 Feb 2025) EllapsedTime: 26.2 seconds RetCode: 0 Status: OK