Package: AWAggregator Version: 0.99.4 Command: /home/biocbuild/R/R/bin/R CMD INSTALL AWAggregator StartedAt: 2025-10-16 21:20:41 -0000 (Thu, 16 Oct 2025) EndedAt: 2025-10-16 21:21:07 -0000 (Thu, 16 Oct 2025) EllapsedTime: 26.2 seconds RetCode: 0 Status: OK