Package: AWAggregator Version: 0.99.4 Command: /home/biocbuild/R/R/bin/R CMD build --keep-empty-dirs --no-resave-data AWAggregator StartedAt: 2025-10-16 23:06:19 -0000 (Thu, 16 Oct 2025) EndedAt: 2025-10-16 23:36:05 -0000 (Thu, 16 Oct 2025) EllapsedTime: 1785.5 seconds RetCode: 0 Status: OK PackageFile: AWAggregator_0.99.4.tar.gz PackageFileSize: 299.3 KiB