Package: AWAggregator Version: 1.1.0 Command: /home/biocbuild/bbs-3.23-bioc/R/bin/R CMD build --keep-empty-dirs --no-resave-data AWAggregator StartedAt: 2025-11-17 16:17:42 -0500 (Mon, 17 Nov 2025) EndedAt: 2025-11-17 16:22:56 -0500 (Mon, 17 Nov 2025) EllapsedTime: 314.2 seconds RetCode: 0 Status: OK PackageFile: AWAggregator_1.1.0.tar.gz PackageFileSize: 273.6 KiB