Back to Build/check report for BioC 3.23:   simplified   long
[A]BCDEFGHIJKLMNOPQRSTUVWXYZ

This page was generated on 2025-11-12 11:32 -0500 (Wed, 12 Nov 2025).

HostnameOSArch (*)R versionInstalled pkgs
nebbiolo1Linux (Ubuntu 24.04.3 LTS)x86_64R Under development (unstable) (2025-10-20 r88955) -- "Unsuffered Consequences" 4823
Click on any hostname to see more info about the system (e.g. compilers)      (*) as reported by 'uname -p', except on Windows and Mac OS X

All results for package AUCell


To the developers/maintainers of the AUCell package:
- Allow up to 24 hours (and sometimes 48 hours) for your latest push to git@git.bioconductor.org:packages/AUCell.git to reflect on this report. See Troubleshooting Build Report for more information.
- Use the following Renviron settings to reproduce errors and warnings.
- If 'R CMD check' started to fail recently on the Linux builder(s) over a missing dependency, add the missing dependency to 'Suggests:' in your DESCRIPTION file. See Renviron.bioc for more information.

raw results

Package 118/2325HostnameOS / ArchINSTALLBUILDCHECKBUILD BIN
AUCell 1.33.0  (landing page)
Gert Hulselmans
Snapshot Date: 2025-11-11 13:40 -0500 (Tue, 11 Nov 2025)
git_url: https://git.bioconductor.org/packages/AUCell
git_branch: devel
git_last_commit: cf45038
git_last_commit_date: 2025-10-29 10:40:49 -0500 (Wed, 29 Oct 2025)
nebbiolo1Linux (Ubuntu 24.04.3 LTS) / x86_64  OK    OK    OK  UNNEEDED, same version is already published



Results for Bioconductor software packages that depend directly on package AUCell

QUICK STATSOS / ArchINSTALLBUILDCHECKBUILD BIN
nebbiolo1Linux (Ubuntu 24.04.3 LTS) / x86_64
002
002
0200
Package 1/2HostnameOS / ArchINSTALLBUILDCHECKBUILD BIN
RcisTarget 1.31.0  (landing page)
Gert Hulselmans
git_last_commit: 06bec5f
git_last_commit_date: 2025-10-29 10:42:56 -0500
nebbiolo1Linux (Ubuntu 24.04.3 LTS) / x86_64  OK    OK    ERROR  
Package 2/2HostnameOS / ArchINSTALLBUILDCHECKBUILD BIN
scFeatures 1.11.0  (landing page)
Yue Cao
git_last_commit: 6d12eae
git_last_commit_date: 2025-10-29 11:20:52 -0500
nebbiolo1Linux (Ubuntu 24.04.3 LTS) / x86_64  OK    OK    ERROR