Package: ATACseqTFEA Version: 1.11.1 Command: /home/biocbuild/bbs-3.22-bioc/R/bin/R CMD INSTALL ATACseqTFEA StartedAt: 2025-09-29 16:02:08 -0400 (Mon, 29 Sep 2025) EndedAt: 2025-09-29 16:03:08 -0400 (Mon, 29 Sep 2025) EllapsedTime: 59.4 seconds RetCode: 0 Status: OK