Package: ATACseqQC Version: 1.33.1 Command: rm -rf ATACseqQC.buildbin-libdir && mkdir ATACseqQC.buildbin-libdir && F:\biocbuild\bbs-3.22-bioc\R\bin\R.exe CMD INSTALL --build --library=ATACseqQC.buildbin-libdir ATACseqQC_1.33.1.tar.gz StartedAt: 2025-08-15 09:44:59 -0400 (Fri, 15 Aug 2025) EndedAt: 2025-08-15 09:46:21 -0400 (Fri, 15 Aug 2025) EllapsedTime: 82.0 seconds RetCode: 0 Status: OK PackageFile: ATACseqQC_1.33.1.zip PackageFileSize: 13.11 MiB