Package: ATACseqQC Version: 1.31.1 Command: rm -rf ATACseqQC.buildbin-libdir && mkdir ATACseqQC.buildbin-libdir && /Users/biocbuild/BBS/utils/build-universal.sh ATACseqQC_1.31.1.tar.gz /Library/Frameworks/R.framework/Resources/bin/R ATACseqQC.buildbin-libdir StartedAt: 2025-02-17 00:10:09 -0500 (Mon, 17 Feb 2025) EndedAt: 2025-02-17 00:11:32 -0500 (Mon, 17 Feb 2025) EllapsedTime: 82.7 seconds RetCode: 0 Status: OK PackageFile: ATACseqQC_1.31.1.tgz PackageFileSize: 14.22 MiB