Package: ATACseqQC Version: 1.31.1 Command: /Library/Frameworks/R.framework/Resources/bin/R CMD INSTALL ATACseqQC StartedAt: 2025-02-16 15:23:20 -0500 (Sun, 16 Feb 2025) EndedAt: 2025-02-16 15:23:44 -0500 (Sun, 16 Feb 2025) EllapsedTime: 24.5 seconds RetCode: 0 Status: OK