Package: ASpli Version: 2.19.0 Command: /home/biocbuild/bbs-3.22-bioc/R/bin/R CMD INSTALL ASpli StartedAt: 2025-10-10 16:00:19 -0400 (Fri, 10 Oct 2025) EndedAt: 2025-10-10 16:01:21 -0400 (Fri, 10 Oct 2025) EllapsedTime: 61.8 seconds RetCode: 0 Status: OK