Package: ASpli Version: 2.19.0 Command: /home/biocbuild/bbs-3.22-bioc/R/bin/R CMD build --keep-empty-dirs --no-resave-data --md5 ASpli StartedAt: 2025-10-10 16:25:46 -0400 (Fri, 10 Oct 2025) EndedAt: 2025-10-10 16:28:19 -0400 (Fri, 10 Oct 2025) EllapsedTime: 153.1 seconds RetCode: 0 Status: OK PackageFile: ASpli_2.19.0.tar.gz PackageFileSize: 4.78 MiB