Package: ASSET Version: 2.27.0 Command: rm -rf ASSET.buildbin-libdir && mkdir ASSET.buildbin-libdir && /Users/biocbuild/BBS/utils/build-universal.sh ASSET_2.27.0.tar.gz /Library/Frameworks/R.framework/Resources/bin/R ASSET.buildbin-libdir StartedAt: 2025-05-03 00:31:30 -0400 (Sat, 03 May 2025) EndedAt: 2025-05-03 00:31:45 -0400 (Sat, 03 May 2025) EllapsedTime: 15.0 seconds RetCode: 0 Status: OK PackageFile: ASSET_2.27.0.tgz PackageFileSize: 474.2 KiB