Package: ASICS Version: 2.25.0 Command: /home/biocbuild/R/R/bin/R CMD INSTALL ASICS StartedAt: 2025-10-23 20:42:12 -0000 (Thu, 23 Oct 2025) EndedAt: 2025-10-23 20:42:59 -0000 (Thu, 23 Oct 2025) EllapsedTime: 47.4 seconds RetCode: 0 Status: OK