Package: ASGSCA Version: 1.43.0 Command: rm -rf ASGSCA.buildbin-libdir && mkdir ASGSCA.buildbin-libdir && F:\biocbuild\bbs-3.22-bioc\R\bin\R.exe CMD INSTALL --build --library=ASGSCA.buildbin-libdir ASGSCA_1.43.0.tar.gz StartedAt: 2025-08-15 09:44:43 -0400 (Fri, 15 Aug 2025) EndedAt: 2025-08-15 09:44:54 -0400 (Fri, 15 Aug 2025) EllapsedTime: 10.4 seconds RetCode: 0 Status: OK PackageFile: ASGSCA_1.43.0.zip PackageFileSize: 766.7 KiB