Package: ASAFE Version: 1.33.0 Command: E:\biocbuild\bbs-3.21-bioc\R\bin\R.exe CMD check --no-multiarch --install=check:ASAFE.install-out.txt --library=E:\biocbuild\bbs-3.21-bioc\R\library --no-vignettes --timings ASAFE_1.33.0.tar.gz StartedAt: 2025-02-16 22:32:55 -0500 (Sun, 16 Feb 2025) EndedAt: 2025-02-16 22:33:27 -0500 (Sun, 16 Feb 2025) EllapsedTime: 31.9 seconds RetCode: 0 Status: OK CheckDir: ASAFE.Rcheck Warnings: 0