Package: ASAFE Version: 1.33.0 Command: chmod a+r ASAFE -R && E:\biocbuild\bbs-3.21-bioc\R\bin\R.exe CMD build --keep-empty-dirs --no-resave-data ASAFE StartedAt: 2025-02-16 17:09:08 -0500 (Sun, 16 Feb 2025) EndedAt: 2025-02-16 17:09:23 -0500 (Sun, 16 Feb 2025) EllapsedTime: 15.0 seconds RetCode: 0 Status: OK PackageFile: ASAFE_1.33.0.tar.gz PackageFileSize: 427.9 KiB