Package: ASAFE Version: 1.33.0 Command: rm -rf ASAFE.buildbin-libdir && mkdir ASAFE.buildbin-libdir && E:\biocbuild\bbs-3.21-bioc\R\bin\R.exe CMD INSTALL --build --library=ASAFE.buildbin-libdir ASAFE_1.33.0.tar.gz StartedAt: 2025-02-17 07:01:29 -0500 (Mon, 17 Feb 2025) EndedAt: 2025-02-17 07:01:39 -0500 (Mon, 17 Feb 2025) EllapsedTime: 9.8 seconds RetCode: 0 Status: OK PackageFile: ASAFE_1.33.0.zip PackageFileSize: 590.9 KiB