Package: ASAFE Version: 1.33.0 Command: /Library/Frameworks/R.framework/Resources/bin/R CMD check --install=check:ASAFE.install-out.txt --library=/Library/Frameworks/R.framework/Resources/library --no-vignettes --timings ASAFE_1.33.0.tar.gz StartedAt: 2025-02-16 18:47:55 -0500 (Sun, 16 Feb 2025) EndedAt: 2025-02-16 18:48:24 -0500 (Sun, 16 Feb 2025) EllapsedTime: 28.8 seconds RetCode: 0 Status: OK CheckDir: ASAFE.Rcheck Warnings: 0