Package: ASAFE Version: 1.33.0 Command: rm -rf ASAFE.buildbin-libdir && mkdir ASAFE.buildbin-libdir && /Users/biocbuild/BBS/utils/build-universal.sh ASAFE_1.33.0.tar.gz /Library/Frameworks/R.framework/Resources/bin/R ASAFE.buildbin-libdir StartedAt: 2025-02-19 22:13:27 -0500 (Wed, 19 Feb 2025) EndedAt: 2025-02-19 22:13:29 -0500 (Wed, 19 Feb 2025) EllapsedTime: 2.0 seconds RetCode: 0 Status: OK PackageFile: ASAFE_1.33.0.tgz PackageFileSize: 585.5 KiB