Package: ASAFE Version: 1.35.0 Maintainer: Qian Zhang MaintainerEmail: qszhang at uw.edu git_url: https://git.bioconductor.org/packages/ASAFE git_branch: devel git_last_commit: 9be2653 git_last_commit_date: 2025-04-15 11:03:42 -0400 (Tue, 15 Apr 2025)