Package: ARRmNormalization Version: 1.47.0 Command: E:\biocbuild\bbs-3.21-bioc\R\bin\R.exe CMD check --no-multiarch --install=check:ARRmNormalization.install-out.txt --library=E:\biocbuild\bbs-3.21-bioc\R\library --no-vignettes --timings ARRmNormalization_1.47.0.tar.gz StartedAt: 2025-02-05 23:09:50 -0500 (Wed, 05 Feb 2025) EndedAt: 2025-02-05 23:11:50 -0500 (Wed, 05 Feb 2025) EllapsedTime: 120.2 seconds RetCode: 0 Status: OK CheckDir: ARRmNormalization.Rcheck Warnings: 0