Package: ARRmNormalization Version: 1.47.0 Command: chmod a+r ARRmNormalization -R && E:\biocbuild\bbs-3.21-bioc\R\bin\R.exe CMD build --keep-empty-dirs --no-resave-data ARRmNormalization StartedAt: 2025-02-05 17:19:50 -0500 (Wed, 05 Feb 2025) EndedAt: 2025-02-05 17:20:40 -0500 (Wed, 05 Feb 2025) EllapsedTime: 49.9 seconds RetCode: 0 Status: OK PackageFile: ARRmNormalization_1.47.0.tar.gz PackageFileSize: 1007 KiB