Package: ARRmNormalization Version: 1.47.0 Command: rm -rf ARRmNormalization.buildbin-libdir && mkdir ARRmNormalization.buildbin-libdir && E:\biocbuild\bbs-3.21-bioc\R\bin\R.exe CMD INSTALL --build --library=ARRmNormalization.buildbin-libdir ARRmNormalization_1.47.0.tar.gz StartedAt: 2025-02-13 07:25:10 -0500 (Thu, 13 Feb 2025) EndedAt: 2025-02-13 07:25:56 -0500 (Thu, 13 Feb 2025) EllapsedTime: 46.4 seconds RetCode: 0 Status: OK PackageFile: ARRmNormalization_1.47.0.zip PackageFileSize: 1.023 MiB