Package: ARRmNormalization Version: 1.47.0 Command: /home/biocbuild/bbs-3.21-bioc/R/bin/R CMD check --install=check:ARRmNormalization.install-out.txt --library=/home/biocbuild/bbs-3.21-bioc/R/site-library --timings ARRmNormalization_1.47.0.tar.gz StartedAt: 2025-02-03 20:11:19 -0500 (Mon, 03 Feb 2025) EndedAt: 2025-02-03 20:13:06 -0500 (Mon, 03 Feb 2025) EllapsedTime: 107.2 seconds RetCode: 0 Status: OK CheckDir: ARRmNormalization.Rcheck Warnings: 0