Package: ARRmNormalization Version: 1.47.0 Command: /Library/Frameworks/R.framework/Resources/bin/R CMD INSTALL ARRmNormalization StartedAt: 2025-02-03 15:10:01 -0500 (Mon, 03 Feb 2025) EndedAt: 2025-02-03 15:10:13 -0500 (Mon, 03 Feb 2025) EllapsedTime: 12.4 seconds RetCode: 0 Status: OK