Package: ARRmNormalization Version: 1.47.0 Command: /Library/Frameworks/R.framework/Resources/bin/R CMD build --keep-empty-dirs --no-resave-data ARRmNormalization StartedAt: 2025-02-03 15:58:06 -0500 (Mon, 03 Feb 2025) EndedAt: 2025-02-03 15:58:38 -0500 (Mon, 03 Feb 2025) EllapsedTime: 32.1 seconds RetCode: 0 Status: OK PackageFile: ARRmNormalization_1.47.0.tar.gz PackageFileSize: 1.075 MiB