Package: ARRmNormalization Version: 1.47.0 Command: rm -rf ARRmNormalization.buildbin-libdir && mkdir ARRmNormalization.buildbin-libdir && /Users/biocbuild/BBS/utils/build-universal.sh ARRmNormalization_1.47.0.tar.gz /Library/Frameworks/R.framework/Resources/bin/R ARRmNormalization.buildbin-libdir StartedAt: 2025-02-04 00:22:50 -0500 (Tue, 04 Feb 2025) EndedAt: 2025-02-04 00:22:58 -0500 (Tue, 04 Feb 2025) EllapsedTime: 7.9 seconds RetCode: 0 Status: OK PackageFile: ARRmNormalization_1.47.0.tgz PackageFileSize: 1.111 MiB