Package: ARRmNormalization Version: 1.49.0 Command: /Library/Frameworks/R.framework/Resources/bin/R CMD INSTALL ARRmNormalization StartedAt: 2025-05-01 15:02:00 -0400 (Thu, 01 May 2025) EndedAt: 2025-05-01 15:02:07 -0400 (Thu, 01 May 2025) EllapsedTime: 7.5 seconds RetCode: 0 Status: OK