Package: APL Version: 1.13.0 Command: /Library/Frameworks/R.framework/Resources/bin/R CMD check --install=check:APL.install-out.txt --library=/Library/Frameworks/R.framework/Resources/library --no-vignettes --timings APL_1.13.0.tar.gz StartedAt: 2025-05-22 18:57:13 -0400 (Thu, 22 May 2025) EndedAt: 2025-05-22 19:02:20 -0400 (Thu, 22 May 2025) EllapsedTime: 307.5 seconds RetCode: 0 Status: OK CheckDir: APL.Rcheck Warnings: 0