Package: APL Version: 1.13.0 Command: /Library/Frameworks/R.framework/Resources/bin/R CMD build --keep-empty-dirs --no-resave-data APL StartedAt: 2025-05-22 15:57:36 -0400 (Thu, 22 May 2025) EndedAt: 2025-05-22 16:01:21 -0400 (Thu, 22 May 2025) EllapsedTime: 225.2 seconds RetCode: 0 Status: OK PackageFile: APL_1.13.0.tar.gz PackageFileSize: 2.436 MiB