Package: APL Version: 1.13.0 Command: rm -rf APL.buildbin-libdir && mkdir APL.buildbin-libdir && /Users/biocbuild/BBS/utils/build-universal.sh APL_1.13.0.tar.gz /Library/Frameworks/R.framework/Resources/bin/R APL.buildbin-libdir StartedAt: 2025-05-23 00:19:22 -0400 (Fri, 23 May 2025) EndedAt: 2025-05-23 00:20:22 -0400 (Fri, 23 May 2025) EllapsedTime: 60.0 seconds RetCode: 0 Status: OK PackageFile: APL_1.13.0.tgz PackageFileSize: 2.86 MiB