Package: APL Version: 1.13.0 Command: rm -rf APL.buildbin-libdir && mkdir APL.buildbin-libdir && /Users/biocbuild/BBS/utils/build-universal.sh APL_1.13.0.tar.gz /Library/Frameworks/R.framework/Resources/bin/R APL.buildbin-libdir StartedAt: 2025-05-27 22:05:52 -0400 (Tue, 27 May 2025) EndedAt: 2025-05-27 22:06:10 -0400 (Tue, 27 May 2025) EllapsedTime: 18.4 seconds RetCode: 0 Status: OK PackageFile: APL_1.13.0.tgz PackageFileSize: 2.926 MiB