Package: ANF Version: 1.31.0 Command: /home/biocbuild/bbs-3.22-bioc/R/bin/R CMD INSTALL ANF StartedAt: 2025-10-16 16:11:10 -0400 (Thu, 16 Oct 2025) EndedAt: 2025-10-16 16:11:16 -0400 (Thu, 16 Oct 2025) EllapsedTime: 6.5 seconds RetCode: 0 Status: OK