Package: ANF Version: 1.31.0 Command: /home/biocbuild/bbs-3.22-bioc/R/bin/R CMD build --keep-empty-dirs --no-resave-data --md5 ANF StartedAt: 2025-10-16 17:12:54 -0400 (Thu, 16 Oct 2025) EndedAt: 2025-10-16 17:13:34 -0400 (Thu, 16 Oct 2025) EllapsedTime: 40.0 seconds RetCode: 0 Status: OK PackageFile: ANF_1.31.0.tar.gz PackageFileSize: 684.5 KiB