Package: ANCOMBC Version: 2.11.1 Command: /home/biocbuild/bbs-3.22-bioc/R/bin/R CMD INSTALL ANCOMBC StartedAt: 2025-10-17 15:07:11 -0400 (Fri, 17 Oct 2025) EndedAt: 2025-10-17 15:07:40 -0400 (Fri, 17 Oct 2025) EllapsedTime: 28.5 seconds RetCode: 0 Status: OK